BEGIN:VCALENDAR
VERSION:2.0
PRODID:-//Riverside Missionary Baptist Church - ECPv6.15.17.1//NONSGML v1.0//EN
CALSCALE:GREGORIAN
METHOD:PUBLISH
X-WR-CALNAME:Riverside Missionary Baptist Church
X-ORIGINAL-URL:https://rmbc-dallas.org
X-WR-CALDESC:Events for Riverside Missionary Baptist Church
REFRESH-INTERVAL;VALUE=DURATION:PT1H
X-Robots-Tag:noindex
X-PUBLISHED-TTL:PT1H
BEGIN:VTIMEZONE
TZID:America/Chicago
BEGIN:DAYLIGHT
TZOFFSETFROM:-0600
TZOFFSETTO:-0500
TZNAME:CDT
DTSTART:20250309T080000
END:DAYLIGHT
BEGIN:STANDARD
TZOFFSETFROM:-0500
TZOFFSETTO:-0600
TZNAME:CST
DTSTART:20251102T070000
END:STANDARD
BEGIN:DAYLIGHT
TZOFFSETFROM:-0600
TZOFFSETTO:-0500
TZNAME:CDT
DTSTART:20260308T080000
END:DAYLIGHT
BEGIN:STANDARD
TZOFFSETFROM:-0500
TZOFFSETTO:-0600
TZNAME:CST
DTSTART:20261101T070000
END:STANDARD
BEGIN:DAYLIGHT
TZOFFSETFROM:-0600
TZOFFSETTO:-0500
TZNAME:CDT
DTSTART:20270314T080000
END:DAYLIGHT
BEGIN:STANDARD
TZOFFSETFROM:-0500
TZOFFSETTO:-0600
TZNAME:CST
DTSTART:20271107T070000
END:STANDARD
END:VTIMEZONE
BEGIN:VEVENT
DTSTART;TZID=America/Chicago:20260308T090000
DTEND;TZID=America/Chicago:20260308T120000
DTSTAMP:20260425T112624
CREATED:20260104T231410Z
LAST-MODIFIED:20260104T231622Z
UID:601-1772960400-1772971200@rmbc-dallas.org
SUMMARY:Sunday School Awareness Day
DESCRIPTION:Sunday School Awareness Day
URL:https://rmbc-dallas.org/event/sunday-school-awareness-day-2/
CATEGORIES:Sunday School
END:VEVENT
BEGIN:VEVENT
DTSTART;TZID=America/Chicago:20260308T100000
DTEND;TZID=America/Chicago:20260308T120000
DTSTAMP:20260425T112624
CREATED:20260104T231516Z
LAST-MODIFIED:20260104T231529Z
UID:603-1772964000-1772971200@rmbc-dallas.org
SUMMARY:Church 84th Anniversary
DESCRIPTION:Church 84th Anniversary
URL:https://rmbc-dallas.org/event/church-84th-anniversary/
END:VEVENT
BEGIN:VEVENT
DTSTART;TZID=America/Chicago:20260322T120000
DTEND;TZID=America/Chicago:20260322T130000
DTSTAMP:20260425T112624
CREATED:20260104T231816Z
LAST-MODIFIED:20260104T231816Z
UID:605-1774180800-1774184400@rmbc-dallas.org
SUMMARY:Media Recording
DESCRIPTION:Media Recording
URL:https://rmbc-dallas.org/event/media-recording-3/
CATEGORIES:Media
END:VEVENT
BEGIN:VEVENT
DTSTART;TZID=America/Chicago:20260328T080000
DTEND;TZID=America/Chicago:20260328T170000
DTSTAMP:20260425T112624
CREATED:20260104T232007Z
LAST-MODIFIED:20260104T232007Z
UID:607-1774684800-1774717200@rmbc-dallas.org
SUMMARY:Women's Ministry: Community Fair
DESCRIPTION:Women’s Ministry: Community Fair
URL:https://rmbc-dallas.org/event/womens-ministry-community-fair/
CATEGORIES:Women's Ministry
END:VEVENT
END:VCALENDAR